BEGIN:VCALENDAR
VERSION:2.0
PRODID:-//Kristi Brown-Montesano - ECPv6.15.20//NONSGML v1.0//EN
CALSCALE:GREGORIAN
METHOD:PUBLISH
X-ORIGINAL-URL:https://kristibrownmontesano.com
X-WR-CALDESC:Events for Kristi Brown-Montesano
REFRESH-INTERVAL;VALUE=DURATION:PT1H
X-Robots-Tag:noindex
X-PUBLISHED-TTL:PT1H
BEGIN:VTIMEZONE
TZID:America/Los_Angeles
BEGIN:DAYLIGHT
TZOFFSETFROM:-0800
TZOFFSETTO:-0700
TZNAME:PDT
DTSTART:20180311T100000
END:DAYLIGHT
BEGIN:STANDARD
TZOFFSETFROM:-0700
TZOFFSETTO:-0800
TZNAME:PST
DTSTART:20181104T090000
END:STANDARD
BEGIN:DAYLIGHT
TZOFFSETFROM:-0800
TZOFFSETTO:-0700
TZNAME:PDT
DTSTART:20190310T100000
END:DAYLIGHT
BEGIN:STANDARD
TZOFFSETFROM:-0700
TZOFFSETTO:-0800
TZNAME:PST
DTSTART:20191103T090000
END:STANDARD
BEGIN:DAYLIGHT
TZOFFSETFROM:-0800
TZOFFSETTO:-0700
TZNAME:PDT
DTSTART:20200308T100000
END:DAYLIGHT
BEGIN:STANDARD
TZOFFSETFROM:-0700
TZOFFSETTO:-0800
TZNAME:PST
DTSTART:20201101T090000
END:STANDARD
BEGIN:DAYLIGHT
TZOFFSETFROM:-0800
TZOFFSETTO:-0700
TZNAME:PDT
DTSTART:20210314T100000
END:DAYLIGHT
BEGIN:STANDARD
TZOFFSETFROM:-0700
TZOFFSETTO:-0800
TZNAME:PST
DTSTART:20211107T090000
END:STANDARD
BEGIN:DAYLIGHT
TZOFFSETFROM:-0800
TZOFFSETTO:-0700
TZNAME:PDT
DTSTART:20220313T100000
END:DAYLIGHT
BEGIN:STANDARD
TZOFFSETFROM:-0700
TZOFFSETTO:-0800
TZNAME:PST
DTSTART:20221106T090000
END:STANDARD
BEGIN:DAYLIGHT
TZOFFSETFROM:-0800
TZOFFSETTO:-0700
TZNAME:PDT
DTSTART:20230312T100000
END:DAYLIGHT
BEGIN:STANDARD
TZOFFSETFROM:-0700
TZOFFSETTO:-0800
TZNAME:PST
DTSTART:20231105T090000
END:STANDARD
END:VTIMEZONE
BEGIN:VEVENT
DTSTART;TZID=America/Los_Angeles:20220304T190000
DTEND;TZID=America/Los_Angeles:20220304T223000
DTSTAMP:20260420T070444
CREATED:20220223T225917Z
LAST-MODIFIED:20220304T215908Z
UID:10000011-1646420400-1646433000@kristibrownmontesano.com
SUMMARY:Pre-Concert Lecture / La Jolla Music Society
DESCRIPTION:Beatrice Rana\, known for ferocious technique and musical intelligence\, presents a program on laughter and lessons from the “City of Lights.” In her delightful La Jolla Music Society program\, Rana explores the city where Chopin\, Debussy\, and Stravinsky all lived\, loved\, and created. My pre-concert lecture considers how Paris offered the perfect milieu for these composers and works: The idiosyncratic humor of Chopin’s Scherzos. The serious business of Debussy’s formidable Études. And the Russian traditions and modernist innovations of Stravinsky’s Petrushka.  
URL:https://kristibrownmontesano.com/event/beatrice-rana-piano-city-of-lights/
LOCATION:The Baker-Baum Concert Hall @ The Conrad\, 7600 Fay Ave\, La Jolla\, CA\, 92037\, United States
CATEGORIES:Public Musicology Concert Lecture
ATTACH;FMTTYPE=image/png:https://kristibrownmontesano.com/wp-content/uploads/2022/02/LJCMS_Beatrice-Rana-Piano.png
END:VEVENT
BEGIN:VEVENT
DTSTART;TZID=America/Los_Angeles:20191123T190000
DTEND;TZID=America/Los_Angeles:20191123T190000
DTSTAMP:20260420T070444
CREATED:20191119T034254Z
LAST-MODIFIED:20191120T224852Z
UID:10000074-1574535600-1574535600@kristibrownmontesano.com
SUMMARY:Prism V / Bach\, Webern\, Beethoven - Danish String Quartet
DESCRIPTION:The Danish String Quartet\, one of the leading quartets of their generation\, continues their three-year La Jolla Music Society residency with five concerts celebrating the 250th anniversary of Beethoven’s birth. \nThe PRISM Project is a series of musical sets based on the historical and musical impact of Bach’s seminal fugal writing\, the final Beethoven string quartets\, and compositions which were born out of these fundamentally influential works\, including quartets by Shostakovich\, Schnittke\, Bartók\, Mendelssohn\, and Webern. The title refers to a beam of music being split through Beethoven’s prism. \nPlease join me as I present the pre-concert “Prelude” talk before PRISM concerts III\, IV and V. \nLooking forward to seeing you there! \n  \nPRISM V Program:\n\nJ.S BACH · Contrapunctus 14(18): Fuga a 3 Soggetti from The Art of Fugue\, BWV 1080\nWEBERN · String Quartet (1905)\nJ.S. BACH · Für deinen Thron tret’ ich\, BWV 668\nBEETHOVEN · String Quartet in F Major\, Op. 135
URL:https://kristibrownmontesano.com/event/prism-v-danish-string-quartet-la-jolla/
LOCATION:The Baker-Baum Concert Hall @ The Conrad\, 7600 Fay Ave\, La Jolla\, CA\, 92037\, United States
CATEGORIES:Chamber Music Concert,La Jolla Music Society
ATTACH;FMTTYPE=image/jpeg:https://kristibrownmontesano.com/wp-content/uploads/2019/11/DSQ2-600x600.jpg
END:VEVENT
BEGIN:VEVENT
DTSTART;TZID=America/Los_Angeles:20191123T140000
DTEND;TZID=America/Los_Angeles:20191123T140000
DTSTAMP:20260420T070444
CREATED:20191119T032841Z
LAST-MODIFIED:20191120T224941Z
UID:10000073-1574517600-1574517600@kristibrownmontesano.com
SUMMARY:Prism IV / Bach\, Mendelssohn\, Beethoven - Danish String Quartet
DESCRIPTION:The Danish String Quartet\, one of the leading quartets of their generation\, continues their three-year La Jolla Music Society residency with five concerts celebrating the 250th anniversary of Beethoven’s birth. \nThe PRISM Project is a series of musical sets based on the historical and musical impact of Bach’s seminal fugal writing\, the final Beethoven string quartets\, and compositions which were born out of these fundamentally influential works\, including quartets by Shostakovich\, Schnittke\, Bartók\, Mendelssohn\, and Webern. The title refers to a beam of music being split through Beethoven’s prism. \nPlease join me as I present the pre-concert “Prelude” talk before PRISM concerts III\, IV and V. \nLooking forward to seeing you there! \nPRISM IV Program: Bach\, Mendelssohn & Beethoven \n\nJ.S. BACH · Prelude and Fugue No. 16 in G Minor\, BWV 861 from The Well-Tempered Clavier\, Book I (arr. Förster)\nMENDELSSOHN · String Quartet in A Minor\, Op. 13\nBEETHOVEN · String Quartet in A Minor\, Op. 132\n\nFrederik Øland; Rune Tonsgaard Sørensen\, violins; Asbjørn Nørgaard\, viola; Fredrik Schøyen Sjölin\, cello
URL:https://kristibrownmontesano.com/event/prism-iv-danish-string-quartet-la-jolla/
LOCATION:The Baker-Baum Concert Hall @ The Conrad\, 7600 Fay Ave\, La Jolla\, CA\, 92037\, United States
CATEGORIES:Chamber Music Concert,La Jolla Music Society
ATTACH;FMTTYPE=image/jpeg:https://kristibrownmontesano.com/wp-content/uploads/2019/11/DSQ-600x600.jpg
END:VEVENT
BEGIN:VEVENT
DTSTART;TZID=America/Los_Angeles:20191122T190000
DTEND;TZID=America/Los_Angeles:20191122T190000
DTSTAMP:20260420T070444
CREATED:20191119T030133Z
LAST-MODIFIED:20191120T225034Z
UID:10000072-1574449200-1574449200@kristibrownmontesano.com
SUMMARY:Prism III / Bach\, Bartók\, Beethoven - Danish String Quartet
DESCRIPTION:The Danish String Quartet\, one of the leading quartets of their generation\, continues their three-year La Jolla Music Society residency with five concerts celebrating the 250th anniversary of Beethoven’s birth. \nThe PRISM Project is a series of musical sets based on the historical and musical impact of Bach’s seminal fugal writing\, the final Beethoven string quartets\, and compositions which were born out of these fundamentally influential works\, including quartets by Shostakovich\, Schnittke\, Bartók\, Mendelssohn\, and Webern. The title refers to a beam of music being split through Beethoven’s prism. \nPlease join me as I present the pre-concert “Prelude” talk before PRISM concerts III\, IV and V. \nLooking forward to seeing you there! \nPRISM III Program: Bach\, Bartók & Beethoven\n\nJ.S. BACH · Fugue No. 4 in C-sharp Minor\, BWV 849 from The Well-Tempered Clavier\, Book I (arr. Förster)\nBARTÓK · String Quartet No. 1 in A Minor\nBEETHOVEN · String Quartet in C-sharp Minor\, Op. 131\n\nFrederik Øland; Rune Tonsgaard Sørensen\, violins; Asbjørn Nørgaard\, viola; Fredrik Schøyen Sjölin\, cello \n 
URL:https://kristibrownmontesano.com/event/danish-string-quartet-beethoven-prism-iii/
LOCATION:The Baker-Baum Concert Hall @ The Conrad\, 7600 Fay Ave\, La Jolla\, CA\, 92037\, United States
CATEGORIES:Chamber Music Concert,La Jolla Music Society
ATTACH;FMTTYPE=image/jpeg:https://kristibrownmontesano.com/wp-content/uploads/2019/11/DSQ3-600x600.jpg
END:VEVENT
BEGIN:VEVENT
DTSTART;TZID=America/Los_Angeles:20190823T190000
DTEND;TZID=America/Los_Angeles:20190823T190000
DTSTAMP:20260420T070444
CREATED:20190730T200312Z
LAST-MODIFIED:20190811T023047Z
UID:10000068-1566586800-1566586800@kristibrownmontesano.com
SUMMARY:SummerFest Finale / Nicholas McGegan
DESCRIPTION:The finale concert of SummerFest Music Director Inon Barnatan’s inaugural season celebrates the concerto grosso. Conductor and harpsichordist Nicholas McGegan leads the SummerFest Chamber Orchestra. Great masterworks pair in exciting ways with modern visions of the form. And it all ties back to Opening Night’s exploration of the deep connection of music across centuries. \nIn my pre-concert talk for the finale concert—(7pm)—we’ll explore the concerto grosso’s social history. It’s a charming string-centric genre that first arose in seventeenth-century Italy\, delighting audiences and inspiring some of the most celebrated Baroque composers. We will consider the special qualities of the Baroque concerto grosso. And explore how contemporary composers such as Zwilich and Norman have woven some of these elements into fascinating fusions of the musical “then” and “now.”
URL:https://kristibrownmontesano.com/event/summerfest-finale/
LOCATION:The Baker-Baum Concert Hall @ The Conrad\, 7600 Fay Ave\, La Jolla\, CA\, 92037\, United States
CATEGORIES:La Jolla Music Society
ATTACH;FMTTYPE=image/jpeg:https://kristibrownmontesano.com/wp-content/uploads/2019/07/nicholas-mcgegan.jpg
END:VEVENT
BEGIN:VEVENT
DTSTART;TZID=America/Los_Angeles:20190510T190000
DTEND;TZID=America/Los_Angeles:20190510T220000
DTSTAMP:20260420T070444
CREATED:20190430T045712Z
LAST-MODIFIED:20190430T064238Z
UID:10000062-1557514800-1557525600@kristibrownmontesano.com
SUMMARY:La Jolla Music Society / Finckel & Han
DESCRIPTION:Prelude Pre-Concert Lecture @ 7pm (Dr. Kristi Brown-Montesano).\nConcert @ 8pm\nDavid Finckel and Wu Han are recipients of the 2010 Musical America’s Musicians of the Year award\, one of the highest honors granted by the music industry. \nHe was a protégé of Mstislav Rostropovich; she\, a veteran of top-flight musical training grounds like Aspen and Marlboro. Critics have praised the boldness\, imagination\, and collaborative intimacy of their work—often trumpeting his laser-like focus and her innate spark. \nBut performing is merely a starting point for this irrepressible husband and wife team\, whose résumé includes the stewardship of important arts organizations like the Chamber Music Society of Lincoln Center and Music@Menlo; a history of innovation in programming\, recording\, and outreach; and a commitment to fostering young talent. Along the way\, they have built audiences and shaped a new wave of players. To call them overachievers would be an understatement. \nProgram\nTo be announced. \n  \n 
URL:https://kristibrownmontesano.com/event/la-jolla-music-society-finckel-han/
LOCATION:The Baker-Baum Concert Hall @ The Conrad\, 7600 Fay Ave\, La Jolla\, CA\, 92037\, United States
CATEGORIES:Chamber Music Concert,La Jolla Music Society
ATTACH;FMTTYPE=image/jpeg:https://kristibrownmontesano.com/wp-content/uploads/2019/04/David-Finckel_Wu-Han.jpg
END:VEVENT
BEGIN:VEVENT
DTSTART;TZID=America/Los_Angeles:20190425T190000
DTEND;TZID=America/Los_Angeles:20190425T220000
DTSTAMP:20260420T070444
CREATED:20190424T015817Z
LAST-MODIFIED:20190430T064334Z
UID:10000058-1556218800-1556229600@kristibrownmontesano.com
SUMMARY:La Jolla Music Society / Shaham & Eguchi
DESCRIPTION:Prelude Pre-Concert Lecture @ 7pm (Dr. Kristi Brown-Montesano).\nConcert @ 8pm\nLJMS welcomes back longtime friend Gil Shaham! Because of Shaham’s mastery\, he is a sought-after concerto performer with leading orchestras and conductors world-wide. And in 2012\, he was honored as Musical America’s Instrumentalist of the Year. Pianist Akira Eguchi is distinguished by his performances for heads of State\, including American Presidents\, and the Emperor and Empress of Japan. Shaham and Eguchi are noteworthy artists and long time collaborators. \nShaham-Eguchi Program\n\nKREISLER · Praeludium and Allegro\nWHEELER · The Singing Turk: Sonata No.2 for Violin and Piano\nDORMAN · Nigunim (Sonata No. 3)\nJ.S. BACH · Partita No.3 in E Major for Solo Violin\, BWV 1006\nFRANCK · Sonata in A Major for Violin and Piano
URL:https://kristibrownmontesano.com/event/la-jolla-music-society-shaham-eguchi/
LOCATION:The Baker-Baum Concert Hall @ The Conrad\, 7600 Fay Ave\, La Jolla\, CA\, 92037\, United States
CATEGORIES:Chamber Music Concert
ATTACH;FMTTYPE=image/jpeg:https://kristibrownmontesano.com/wp-content/uploads/2019/04/Shaham-Eguchi.jpg
END:VEVENT
END:VCALENDAR