BEGIN:VCALENDAR
VERSION:2.0
PRODID:-//Kristi Brown-Montesano - ECPv6.15.20//NONSGML v1.0//EN
CALSCALE:GREGORIAN
METHOD:PUBLISH
X-WR-CALNAME:Kristi Brown-Montesano
X-ORIGINAL-URL:https://kristibrownmontesano.com
X-WR-CALDESC:Events for Kristi Brown-Montesano
REFRESH-INTERVAL;VALUE=DURATION:PT1H
X-Robots-Tag:noindex
X-PUBLISHED-TTL:PT1H
BEGIN:VTIMEZONE
TZID:America/Los_Angeles
BEGIN:DAYLIGHT
TZOFFSETFROM:-0800
TZOFFSETTO:-0700
TZNAME:PDT
DTSTART:20220313T100000
END:DAYLIGHT
BEGIN:STANDARD
TZOFFSETFROM:-0700
TZOFFSETTO:-0800
TZNAME:PST
DTSTART:20221106T090000
END:STANDARD
BEGIN:DAYLIGHT
TZOFFSETFROM:-0800
TZOFFSETTO:-0700
TZNAME:PDT
DTSTART:20230312T100000
END:DAYLIGHT
BEGIN:STANDARD
TZOFFSETFROM:-0700
TZOFFSETTO:-0800
TZNAME:PST
DTSTART:20231105T090000
END:STANDARD
BEGIN:DAYLIGHT
TZOFFSETFROM:-0800
TZOFFSETTO:-0700
TZNAME:PDT
DTSTART:20240310T100000
END:DAYLIGHT
BEGIN:STANDARD
TZOFFSETFROM:-0700
TZOFFSETTO:-0800
TZNAME:PST
DTSTART:20241103T090000
END:STANDARD
BEGIN:DAYLIGHT
TZOFFSETFROM:-0800
TZOFFSETTO:-0700
TZNAME:PDT
DTSTART:20250309T100000
END:DAYLIGHT
BEGIN:STANDARD
TZOFFSETFROM:-0700
TZOFFSETTO:-0800
TZNAME:PST
DTSTART:20251102T090000
END:STANDARD
BEGIN:DAYLIGHT
TZOFFSETFROM:-0800
TZOFFSETTO:-0700
TZNAME:PDT
DTSTART:20260308T100000
END:DAYLIGHT
BEGIN:STANDARD
TZOFFSETFROM:-0700
TZOFFSETTO:-0800
TZNAME:PST
DTSTART:20261101T090000
END:STANDARD
END:VTIMEZONE
BEGIN:VEVENT
DTSTART;TZID=America/Los_Angeles:20251207T160000
DTEND;TZID=America/Los_Angeles:20251207T190000
DTSTAMP:20260420T064729
CREATED:20260115T072058Z
LAST-MODIFIED:20260115T072058Z
UID:10000223-1765123200-1765134000@kristibrownmontesano.com
SUMMARY:Le Salon de Musiques: Concert Intro and postconcert Q&A
DESCRIPTION:Opening my holiday season with a happy return to Le Salon de Musiques! We have a powerhouse quartet of musicians for this special concert: violinists Martin Chalifour and Ray Ushikubo\, violist Carson Rick\, and cellist Allan Hong will present works Mozart\, Schumann\, and Howells. \nAs always\, the magic of this series is the combination of intimate musical performance\, interactive education\, and great food and drink! As musicological “co-host\,” I offer some introductory remarks on the program and moderate the post-concert Q&A with the artists\, champagne glass in hand!
URL:https://kristibrownmontesano.com/event/le-salon-de-musiques-concert-intro-and-postconcert-qa-13/
LOCATION:La Jolla Women’s Club\, 7791 Draper Avenue\, La Jolla\, CA\, 92037\, United States
CATEGORIES:Chamber Music Concert,Pre-Concert Talk,Public Musicology Conversation,Salon de Musiques
ATTACH;FMTTYPE=image/jpeg:https://kristibrownmontesano.com/wp-content/uploads/2024/01/Salon-de-Musique-concert-shot.jpeg
GEO:32.8440755;-117.2771182
X-APPLE-STRUCTURED-LOCATION;VALUE=URI;X-ADDRESS=La Jolla Women’s Club 7791 Draper Avenue La Jolla CA 92037 United States;X-APPLE-RADIUS=500;X-TITLE=7791 Draper Avenue:geo:-117.2771182,32.8440755
END:VEVENT
BEGIN:VEVENT
DTSTART;TZID=America/Los_Angeles:20250202T160000
DTEND;TZID=America/Los_Angeles:20250202T190000
DTSTAMP:20260420T064729
CREATED:20250716T180815Z
LAST-MODIFIED:20250716T180815Z
UID:10000188-1738512000-1738522800@kristibrownmontesano.com
SUMMARY:Le Salon de Musiques: Concert Intro and postconcert Q&A
DESCRIPTION:A Russian tea! The program for this delectable Salon highlights works by Taneyev\, Borodin\, and Rachmaninoff. Plus a line-up of truly fabulous and engaging musicians: Kyle Gilner (violin)\, Agatha Blevin (violin)\, Carson Rick (viola)\, Allan Hon (cello) and Barry Tan (piano). Kyle\, Carson\, and Allan are also members of one of my favorite ensembles: the Zelter Quartet. \nAs always\, the magic of this series is the combination of intimate musical performance\, interactive education\, and great food and drink! As musicological “co-host\,” I offer some introductory remarks on the program and moderate the post-concert Q&A with the artists\, champagne glass in hand! \n  \n 
URL:https://kristibrownmontesano.com/event/le-salon-de-musiques-concert-intro-and-postconcert-qa-12/
LOCATION:La Jolla Women’s Club\, 7791 Draper Avenue\, La Jolla\, CA\, 92037\, United States
CATEGORIES:Chamber Music Concert,Pre-Concert Talk,Public Musicology Conversation,Salon de Musiques
ATTACH;FMTTYPE=image/jpeg:https://kristibrownmontesano.com/wp-content/uploads/2024/10/Salon-de-Musique-concert-shot.jpeg
GEO:32.8440755;-117.2771182
X-APPLE-STRUCTURED-LOCATION;VALUE=URI;X-ADDRESS=La Jolla Women’s Club 7791 Draper Avenue La Jolla CA 92037 United States;X-APPLE-RADIUS=500;X-TITLE=7791 Draper Avenue:geo:-117.2771182,32.8440755
END:VEVENT
BEGIN:VEVENT
DTSTART;TZID=America/Los_Angeles:20241209T160000
DTEND;TZID=America/Los_Angeles:20241209T190000
DTSTAMP:20260420T064729
CREATED:20241230T003205Z
LAST-MODIFIED:20241230T003205Z
UID:10000178-1733760000-1733770800@kristibrownmontesano.com
SUMMARY:Le Salon de Musiques: Concert Intro and postconcert Q&A
DESCRIPTION:Heading into the winter holiday season with the marvelous Quartet Integra at the Salon de Musiques in beautiful La Jolla\, California. Artistic Director and founder François Chouchan has put together an evocative program anchored by Schubert’s beloved “Rosamund” Quartet. The other two works are and early string quartet by Max Bruch and the melancholy Molto Adagio Sempre Cantante Doloroso (Very slowly and always sung\, painfully) by Guillaume Lekeu\, a bright rising star in 19th century Paris who died after an illness when he was only 24. \nAs always\, the magic of this series is the combination of intimate musical performance\, interactive education\, and great food and drink! As musicological “co-host\,” I offer some introductory remarks on the program and moderate the post-concert Q&A with the artists\, champagne glass in hand!
URL:https://kristibrownmontesano.com/event/le-salon-de-musiques-concert-intro-and-postconcert-qa-11/
LOCATION:La Jolla Women’s Club\, 7791 Draper Avenue\, La Jolla\, CA\, 92037\, United States
CATEGORIES:Chamber Music Concert,Pre-Concert Talk,Salon de Musiques
ATTACH;FMTTYPE=image/jpeg:https://kristibrownmontesano.com/wp-content/uploads/2024/10/Salon-de-Musique-concert-shot.jpeg
GEO:32.8440755;-117.2771182
X-APPLE-STRUCTURED-LOCATION;VALUE=URI;X-ADDRESS=La Jolla Women’s Club 7791 Draper Avenue La Jolla CA 92037 United States;X-APPLE-RADIUS=500;X-TITLE=7791 Draper Avenue:geo:-117.2771182,32.8440755
END:VEVENT
BEGIN:VEVENT
DTSTART;TZID=America/Los_Angeles:20241006T160000
DTEND;TZID=America/Los_Angeles:20241006T190000
DTSTAMP:20260420T064729
CREATED:20241012T050730Z
LAST-MODIFIED:20241012T050730Z
UID:10000089-1728230400-1728241200@kristibrownmontesano.com
SUMMARY:Le Salon de Musiques: Concert Intro and postconcert Q&A
DESCRIPTION:It’s the opening of a new season with Le Salon de Musiques! The program features two perennial favorites—piano quartets by Mozart and Brahms—and the Duo for violin and viola by the unfairly neglected Louis Spohr. \nArtists:  Agatha Blevin (violin)\, Jonah Sirota (viola)\, Ye Un Park (cello)\, and Peter Klimo (piano). \nAs always\, the magic of this series is the combination of intimate musical performance\, interactive education\, and great food and drink! As musicological “co-host\,” I offer some introductory remarks on the program and moderate the post-concert Q&A with the artists\, champagne glass in hand!
URL:https://kristibrownmontesano.com/event/le-salon-de-musiques-concert-intro-and-postconcert-qa-10/
LOCATION:La Jolla Women’s Club\, 7791 Draper Avenue\, La Jolla\, CA\, 92037\, United States
CATEGORIES:Chamber Music Concert,Pre-Concert Talk
ATTACH;FMTTYPE=image/jpeg:https://kristibrownmontesano.com/wp-content/uploads/2024/10/Salon-de-Musique-concert-shot.jpeg
GEO:32.8440755;-117.2771182
X-APPLE-STRUCTURED-LOCATION;VALUE=URI;X-ADDRESS=La Jolla Women’s Club 7791 Draper Avenue La Jolla CA 92037 United States;X-APPLE-RADIUS=500;X-TITLE=7791 Draper Avenue:geo:-117.2771182,32.8440755
END:VEVENT
BEGIN:VEVENT
DTSTART;TZID=America/Los_Angeles:20240602T160000
DTEND;TZID=America/Los_Angeles:20240602T190000
DTSTAMP:20260420T064729
CREATED:20240530T065229Z
LAST-MODIFIED:20240530T065229Z
UID:10000173-1717344000-1717354800@kristibrownmontesano.com
SUMMARY:Le Salon de Musiques: Concert Intro and postconcert Q&A
DESCRIPTION:The finale of the 2023-24 Salon de Musiques season\, featuring an extraordinary trio of artists: Vijay Gupta (Street Symphony Founder\, MacArthur Fellow\, and first-class violinist!)\, pianist Dominic Cheli\, and cellist Yoshika Mosuda. Program: Chopin’s Polonaise Brillante for cello and piano; Foote’s Piano Trio No. 1 in C Minor\, and Dvořák’s Piano Trio No. 4 in E Minor “Dumky.” \nAs always\, the magic of this series is the combination of intimate musical performance\, interactive education\, and great food and drink! As musicological “co-host\,” I offer some introductory remarks on the program and moderate the post-concert Q&A with the artists\, champagne glass in hand!
URL:https://kristibrownmontesano.com/event/le-salon-de-musiques-concert-intro-and-postconcert-qa-9/
LOCATION:La Jolla Women’s Club\, 7791 Draper Avenue\, La Jolla\, CA\, 92037\, United States
CATEGORIES:Chamber Music Concert,Pre-Concert Talk,Salon de Musiques
ATTACH;FMTTYPE=image/jpeg:https://kristibrownmontesano.com/wp-content/uploads/2024/01/Salon-de-Musique-concert-shot.jpeg
GEO:32.8440755;-117.2771182
X-APPLE-STRUCTURED-LOCATION;VALUE=URI;X-ADDRESS=La Jolla Women’s Club 7791 Draper Avenue La Jolla CA 92037 United States;X-APPLE-RADIUS=500;X-TITLE=7791 Draper Avenue:geo:-117.2771182,32.8440755
END:VEVENT
BEGIN:VEVENT
DTSTART;TZID=America/Los_Angeles:20240407T160000
DTEND;TZID=America/Los_Angeles:20240407T190000
DTSTAMP:20260420T064729
CREATED:20240410T071118Z
LAST-MODIFIED:20240410T071118Z
UID:10000066-1712505600-1712516400@kristibrownmontesano.com
SUMMARY:Le Salon de Musiques: Concert Intro and postconcert Q&A
DESCRIPTION:The first Salon de Musiques of the spring season offers two of my favorites works: Mozart’s String Quartet in C Major (“Dissonance”) and Beethoven’s Emperor Concerto (in an arrangement for string quintet and piano. Rounding out the offerings is a Piano Trio by Ignaz Lachner with the relatively unusual combination of violin\, viola\, and piano. \nAnd look at this crazy-talented lineup of artists! Benjamin Hoffman (violin)\, Kyle Gliner (violin)\, Carson Rick (viola)\, Allan Hon (cello)\, Ryan Baird (double bass)\, and Vijay Venkatesh (piano). \nAs always\, the magic of this series is the combination of intimate musical performance\, interactive education\, and great food and drink! As musicological “co-host\,” I offer some introductory remarks on the program and moderate the post-concert Q&A with the artists\, champagne glass in hand!
URL:https://kristibrownmontesano.com/event/le-salon-de-musiques-concert-intro-and-postconcert-qa-8/
LOCATION:La Jolla Women’s Club\, 7791 Draper Avenue\, La Jolla\, CA\, 92037\, United States
CATEGORIES:Pre-Concert Talk,Public Musicology Conversation,Salon de Musiques
ATTACH;FMTTYPE=image/jpeg:https://kristibrownmontesano.com/wp-content/uploads/2024/04/Beethoven-in-color.jpeg
GEO:32.8440755;-117.2771182
X-APPLE-STRUCTURED-LOCATION;VALUE=URI;X-ADDRESS=La Jolla Women’s Club 7791 Draper Avenue La Jolla CA 92037 United States;X-APPLE-RADIUS=500;X-TITLE=7791 Draper Avenue:geo:-117.2771182,32.8440755
END:VEVENT
BEGIN:VEVENT
DTSTART;TZID=America/Los_Angeles:20240304T160000
DTEND;TZID=America/Los_Angeles:20240304T190000
DTSTAMP:20260420T064729
CREATED:20240305T063949Z
LAST-MODIFIED:20240305T063949Z
UID:10000057-1709568000-1709578800@kristibrownmontesano.com
SUMMARY:Le Salon de Musiques: Concert Intro and postconcert Q&A
DESCRIPTION:The March concert of the Salon de Musiques concert series features two celebrated works by Edvard Grieg: the impassioned String Quartet in G Minor and the Concerto in A Minor (in a transcription for piano and string quartet). Also on the program: a beautiful piece\, Suite for Two Violins and Piano\, by Moritz Moszkowski (1854-1925)\, a composer who was made a fortune writing salon-friendly piano works\, but died almost penniless\, his works forgotten in the modernist mood of the twentieth century. \nThe artists: Sheng-Ching Hsu (violin)\, Chiai Tajima (violin)\, Alex Granger (viola)\, Evan Kahn (cello)\, and Sung Chang (piano). \nAs always\, the magic of this series is the combination of intimate musical performance\, interactive education\, and great food and drink! As musicological “co-host\,” I offer some introductory remarks on the program and moderate the post-concert Q&A with the artists\, champagne glass in hand!
URL:https://kristibrownmontesano.com/event/le-salon-de-musiques-concert-intro-and-postconcert-qa-7/
LOCATION:La Jolla Women’s Club\, 7791 Draper Avenue\, La Jolla\, CA\, 92037\, United States
CATEGORIES:Chamber Music Concert,Salon de Musiques
ATTACH;FMTTYPE=image/webp:https://kristibrownmontesano.com/wp-content/uploads/2024/03/edward-grieg_1180x900-1024x781.jpg.webp
GEO:32.8440755;-117.2771182
X-APPLE-STRUCTURED-LOCATION;VALUE=URI;X-ADDRESS=La Jolla Women’s Club 7791 Draper Avenue La Jolla CA 92037 United States;X-APPLE-RADIUS=500;X-TITLE=7791 Draper Avenue:geo:-117.2771182,32.8440755
END:VEVENT
BEGIN:VEVENT
DTSTART;TZID=America/Los_Angeles:20240204T160000
DTEND;TZID=America/Los_Angeles:20240204T183000
DTSTAMP:20260420T064729
CREATED:20240127T034539Z
LAST-MODIFIED:20240127T034539Z
UID:10000053-1707062400-1707071400@kristibrownmontesano.com
SUMMARY:Le Salon de Musiques: Concert Intro and postconcert Q&A
DESCRIPTION:Vive la France! The February Salon spotlights two French composers of the later Romantic era: Camille Saint-Saëns and Gabriel Fauré. My preconcert introduction will explore the importance of chamber music for these composers and the activities of the Societé Nationale de Musique (the National Society of Music)\, an organization in which both Fauré and Saint-Saëns were active and which aimed to promote French music. \nI’ll also offer a snapshot of the life of Reynaldo Hahn\, who was born in Venezuela but lived most of his life in Paris. A composer\, singer\, conductor\, and music critic\, Hahn studied with Charles Gouonod and Jules Massenet at the Paris Conservatoire\, and took private composition lessons with Saint-Saëns. \nProgram: Hahn\, Venezia for tenor voice and piano; Saint-Saëns\, Piano Quartet No. 2 in B-flat major\, Op. 41; Fauré\, Elegie in C Minor\, Op. 24 for cello and piano and Piano Quartet No. 1 in C Minor\, Op. 15. \nArtists: Benjamin Hoffman (violin)\, Jonah Sirota (viola)\, Sarah Kim (cello)\, Xiao Chen (piano)\, and Jon Lee Keenan (tenor)
URL:https://kristibrownmontesano.com/event/le-salon-de-musiques-concert-intro-and-postconcert-qa-6/
LOCATION:La Jolla Women’s Club\, 7791 Draper Avenue\, La Jolla\, CA\, 92037\, United States
CATEGORIES:Chamber Music Concert,Pre-Concert Talk,Public Musicology Conversation,Salon de Musiques
ATTACH;FMTTYPE=image/jpeg:https://kristibrownmontesano.com/wp-content/uploads/2024/01/POSTCARD-FOR-SEASON-2023-2024-LE-SALON-DE-MUSIQUES_Page_1.jpg
GEO:32.8440755;-117.2771182
X-APPLE-STRUCTURED-LOCATION;VALUE=URI;X-ADDRESS=La Jolla Women’s Club 7791 Draper Avenue La Jolla CA 92037 United States;X-APPLE-RADIUS=500;X-TITLE=7791 Draper Avenue:geo:-117.2771182,32.8440755
END:VEVENT
BEGIN:VEVENT
DTSTART;TZID=America/Los_Angeles:20240107T160000
DTEND;TZID=America/Los_Angeles:20240107T190000
DTSTAMP:20260420T064729
CREATED:20240114T053004Z
LAST-MODIFIED:20240114T053004Z
UID:10000147-1704643200-1704654000@kristibrownmontesano.com
SUMMARY:Le Salon de Musiques: Concert Intro and postconcert Q&A
DESCRIPTION:The music of Robert Schumann\, one of the most literary of canonic composers\, headlines this Salon program: the gorgeous song cycle “Dichterliebe” (Poet Love) and the dramatic Piano Quintet. Also featured is a Piano Quintet by little known composer Carl Frühling\, a generation younger than Brahms. \nArtists: Matthew Worth\, baritone; Kyle Gilner\, violin; Strauss Shi\, violin; Carson Rick\, viola; Juliette Herlin\, cello\, and—a special treat!—Salon Artistic Director and Founder\, François Chouchan at the piano. \nAs always\, the magic of this series is the combination of intimate musical performance\, interactive education\, and great food and drink! As musicological “co-host\,” I offer some introductory remarks on the program and moderate the post-concert Q&A with the artists\, champagne glass in hand!
URL:https://kristibrownmontesano.com/event/le-salon-de-musiques-concert-intro-and-postconcert-qa-5/
LOCATION:La Jolla Women’s Club\, 7791 Draper Avenue\, La Jolla\, CA\, 92037\, United States
CATEGORIES:Chamber Music Concert,Pre-Concert Talk,Salon de Musiques
ATTACH;FMTTYPE=image/jpeg:https://kristibrownmontesano.com/wp-content/uploads/2024/01/Schumann-Dichterliebe.jpeg
GEO:32.8440755;-117.2771182
X-APPLE-STRUCTURED-LOCATION;VALUE=URI;X-ADDRESS=La Jolla Women’s Club 7791 Draper Avenue La Jolla CA 92037 United States;X-APPLE-RADIUS=500;X-TITLE=7791 Draper Avenue:geo:-117.2771182,32.8440755
END:VEVENT
BEGIN:VEVENT
DTSTART;TZID=America/Los_Angeles:20231210T160000
DTEND;TZID=America/Los_Angeles:20231210T190000
DTSTAMP:20260420T064729
CREATED:20240114T050441Z
LAST-MODIFIED:20240114T050441Z
UID:10000146-1702224000-1702234800@kristibrownmontesano.com
SUMMARY:Le Salon de Musiques: Concert Intro and postconcert Q&A
DESCRIPTION:The holiday-season program for this special Salon features music by Beethoven\, Brahms and 19th-century Jewish composer\, Salomon Jadassohn\, an accomplished theorist and teacher whose students included Busoni and Grieg. \nArtists: violinist Elizabeth Hedman\, violist Andrew Picken\, cellist James Baik\, and pianist Samuel Glicklich. \nAs always\, the magic of this series is the combination of intimate musical performance\, interactive education\, and great food and drink! As musicological “co-host\,” I offer some introductory remarks on the program and moderate the post-concert Q&A with the artists\, champagne glass in hand!
URL:https://kristibrownmontesano.com/event/le-salon-de-musiques-concert-intro-and-postconcert-qa-4/
LOCATION:La Jolla Women’s Club\, 7791 Draper Avenue\, La Jolla\, CA\, 92037\, United States
CATEGORIES:Chamber Music Concert,Pre-Concert Talk,Salon de Musiques
ATTACH;FMTTYPE=image/jpeg:https://kristibrownmontesano.com/wp-content/uploads/2024/01/Salon-de-Musique-concert-shot.jpeg
GEO:32.8440755;-117.2771182
X-APPLE-STRUCTURED-LOCATION;VALUE=URI;X-ADDRESS=La Jolla Women’s Club 7791 Draper Avenue La Jolla CA 92037 United States;X-APPLE-RADIUS=500;X-TITLE=7791 Draper Avenue:geo:-117.2771182,32.8440755
END:VEVENT
BEGIN:VEVENT
DTSTART;TZID=America/Los_Angeles:20231105T160000
DTEND;TZID=America/Los_Angeles:20231105T190000
DTSTAMP:20260420T064729
CREATED:20231104T191738Z
LAST-MODIFIED:20231104T191738Z
UID:10000138-1699200000-1699210800@kristibrownmontesano.com
SUMMARY:Le Salon de Musiques: Concert Intro and postconcert Q&A
DESCRIPTION:The second offering in the 2023-24 season of this unique chamber-music series features works by Mozart\, Schubert\, and American composer Rubin Goldmark. The first-rate trio of performers comprises two Salon favorites\, Ambroise Aubrun (violin) and Allan Hon (cello) as well as Salon founder and Artistic Director\, François Chouchan (piano). \nAs always\, the magic of this series is the combination of intimate musical performance\, interactive education\, and great food and drink! As musicological “co-host\,” I offer some introductory remarks on the program and moderate the post-concert Q&A with the artists\, champagne glass in hand!
URL:https://kristibrownmontesano.com/event/le-salon-de-musiques-concert-intro-and-postconcert-qa-3/
LOCATION:La Jolla Women’s Club\, 7791 Draper Avenue\, La Jolla\, CA\, 92037\, United States
CATEGORIES:Chamber Music Concert,Pre-Concert Talk,Salon de Musiques
ATTACH;FMTTYPE=image/jpeg:https://kristibrownmontesano.com/wp-content/uploads/2023/11/Salon-2-2023-24.jpg
GEO:32.8440755;-117.2771182
X-APPLE-STRUCTURED-LOCATION;VALUE=URI;X-ADDRESS=La Jolla Women’s Club 7791 Draper Avenue La Jolla CA 92037 United States;X-APPLE-RADIUS=500;X-TITLE=7791 Draper Avenue:geo:-117.2771182,32.8440755
END:VEVENT
BEGIN:VEVENT
DTSTART;TZID=America/Los_Angeles:20231008T160000
DTEND;TZID=America/Los_Angeles:20231008T183000
DTSTAMP:20260420T064729
CREATED:20231006T220542Z
LAST-MODIFIED:20231006T220924Z
UID:10000132-1696780800-1696789800@kristibrownmontesano.com
SUMMARY:Le Salon de Musiques: Concert Intro and postconcert Q&A
DESCRIPTION:The new Salon de Musiques season begins! This unique chamber-concert series in the heart of La Jolla offers an intimate musical experience with close-up seating\, a Q&A with me and the performing artists\, and a delicious post-concert buffet with French champagne. \nThe opening program features the Quartet Integra—first violinist Kyoka Misawa\, second violinist Rinato Kikuno\, violist Itsuki Yamamoto\, and cellist Anri Tsukiji—in a program featuring a Chaconne by Purcell\, Beethoven’s String Quartet Op. 18\, No. 4 and Schubert’s riveting Quartet No. 14\, “Death and the Maiden.” \nAmong the quartet’s many awards are Second Prize and the Audience Award at the 2022 ARD International Music Competition; First Prize at the 2021 Bartók World Competition; and First Prize\, the Beethoven Prize\, and the Grand Prix Award at the 2019 Akiyoshidai Music Competition. \n 
URL:https://kristibrownmontesano.com/event/le-salon-de-musiques-concert-intro-and-postconcert-qa-2/
LOCATION:La Jolla Women’s Club\, 7791 Draper Avenue\, La Jolla\, CA\, 92037\, United States
CATEGORIES:Chamber Music Concert,Pre-Concert Talk,Salon de Musiques
ATTACH;FMTTYPE=image/png:https://kristibrownmontesano.com/wp-content/uploads/2023/10/Quartet-Integra.png
GEO:32.8440755;-117.2771182
X-APPLE-STRUCTURED-LOCATION;VALUE=URI;X-ADDRESS=La Jolla Women’s Club 7791 Draper Avenue La Jolla CA 92037 United States;X-APPLE-RADIUS=500;X-TITLE=7791 Draper Avenue:geo:-117.2771182,32.8440755
END:VEVENT
BEGIN:VEVENT
DTSTART;TZID=America/Los_Angeles:20230521T160000
DTEND;TZID=America/Los_Angeles:20230521T190000
DTSTAMP:20260420T064729
CREATED:20230520T185706Z
LAST-MODIFIED:20230520T185950Z
UID:10000128-1684684800-1684695600@kristibrownmontesano.com
SUMMARY:Le Salon de Musiques: Concert Intro and postconcert Q&A
DESCRIPTION:I am delighted to be acting as musicological cohost for this special Salon de Musiques concert celebrating Jewish composers of the 19th and 20th centuries. The program offers both the familiar and the relatively unknown: Felix Mendelssohn’s Piano Quartet No. 2 in F Minor\, Op. 2\, Gustav Mahler’s Piano Quartet in A Minor\, and Robert Kahn’s Piano Quartet No. 2 in A Minor (US Premiere). While the Nazi regime posthumously denigrated and banned music by Mendelssohn and Mahler\, Kahn (1865–1951)—a Berlin composer whose works were performed by A-list talents such as Hans von Bülow and the Joachim Quartet—suffered directly from the venomous\, anti-Semitic climate of the time. \nThe program features violinist Yueun Gemma Kim\, violist Nao Kubota\, cellist Michael Kaufman\, and pianist Dominic Cheli\, Representatives from the Anti-Defamation League will also speak at the event.
URL:https://kristibrownmontesano.com/event/le-salon-de-musiques-concert-intro-and-postconcert-qa/
LOCATION:La Jolla Women’s Club\, 7791 Draper Avenue\, La Jolla\, CA\, 92037\, United States
CATEGORIES:Pre-Concert Talk,Salon de Musiques
ATTACH;FMTTYPE=image/webp:https://kristibrownmontesano.com/wp-content/uploads/2023/05/Star-of-David-violin.webp
GEO:32.8440755;-117.2771182
X-APPLE-STRUCTURED-LOCATION;VALUE=URI;X-ADDRESS=La Jolla Women’s Club 7791 Draper Avenue La Jolla CA 92037 United States;X-APPLE-RADIUS=500;X-TITLE=7791 Draper Avenue:geo:-117.2771182,32.8440755
END:VEVENT
BEGIN:VEVENT
DTSTART;TZID=America/Los_Angeles:20230416T160000
DTEND;TZID=America/Los_Angeles:20230416T183000
DTSTAMP:20260420T064729
CREATED:20230416T062141Z
LAST-MODIFIED:20230416T062141Z
UID:10000041-1681660800-1681669800@kristibrownmontesano.com
SUMMARY:Le Salon de Musiques: Concert Intro and Q&A
DESCRIPTION:For the first time since the beginning of the pandemic\, I’m returning to the marvelous Salon de Musiques chamber-concert series—now in La Jolla!—to introduce the program and moderate the post-concert Q&A. Organizer François Chouchan has crafted an enticing program\, one that (true to the Salon mission) combines canonic favorites with recovered treasures. On the more familiar side\, we have Handel’s Sonata for Two Violins in G Minor and Mozart’s Piano Concerto in D Minor (in an arrangement with string quartet instead of orchestra). The newcomer is the String Quintet in E Minor by George Onslow\, a man who loved chamber music and had the financial independence to support his passion. \nThe concert will feature a stellar group of musicians: violinists Ambrose Aubrun and Hwi-Eun Kim\, violist Jonah Sirota\, cellist Allan Hon\, bassist Aaron Blick\, and pianist Vijay Venkatesh.
URL:https://kristibrownmontesano.com/event/le-salon-de-musiques-concert-intro-and-qa/
LOCATION:La Jolla Women’s Club\, 7791 Draper Avenue\, La Jolla\, CA\, 92037\, United States
CATEGORIES:Chamber Music Concert,Pre-Concert Talk,Salon de Musiques
ATTACH;FMTTYPE=image/jpeg:https://kristibrownmontesano.com/wp-content/uploads/2023/04/Salon-de-musiques-image-La-Jolla.jpeg
GEO:32.8440755;-117.2771182
X-APPLE-STRUCTURED-LOCATION;VALUE=URI;X-ADDRESS=La Jolla Women’s Club 7791 Draper Avenue La Jolla CA 92037 United States;X-APPLE-RADIUS=500;X-TITLE=7791 Draper Avenue:geo:-117.2771182,32.8440755
END:VEVENT
END:VCALENDAR