BEGIN:VCALENDAR
VERSION:2.0
PRODID:-//Kristi Brown-Montesano - ECPv6.15.20//NONSGML v1.0//EN
CALSCALE:GREGORIAN
METHOD:PUBLISH
X-ORIGINAL-URL:https://kristibrownmontesano.com
X-WR-CALDESC:Events for Kristi Brown-Montesano
REFRESH-INTERVAL;VALUE=DURATION:PT1H
X-Robots-Tag:noindex
X-PUBLISHED-TTL:PT1H
BEGIN:VTIMEZONE
TZID:America/Los_Angeles
BEGIN:DAYLIGHT
TZOFFSETFROM:-0800
TZOFFSETTO:-0700
TZNAME:PDT
DTSTART:20250309T100000
END:DAYLIGHT
BEGIN:STANDARD
TZOFFSETFROM:-0700
TZOFFSETTO:-0800
TZNAME:PST
DTSTART:20251102T090000
END:STANDARD
BEGIN:DAYLIGHT
TZOFFSETFROM:-0800
TZOFFSETTO:-0700
TZNAME:PDT
DTSTART:20260308T100000
END:DAYLIGHT
BEGIN:STANDARD
TZOFFSETFROM:-0700
TZOFFSETTO:-0800
TZNAME:PST
DTSTART:20261101T090000
END:STANDARD
BEGIN:DAYLIGHT
TZOFFSETFROM:-0800
TZOFFSETTO:-0700
TZNAME:PDT
DTSTART:20270314T100000
END:DAYLIGHT
BEGIN:STANDARD
TZOFFSETFROM:-0700
TZOFFSETTO:-0800
TZNAME:PST
DTSTART:20271107T090000
END:STANDARD
END:VTIMEZONE
BEGIN:VEVENT
DTSTART;TZID=America/Los_Angeles:20260326T100000
DTEND;TZID=America/Los_Angeles:20260326T120000
DTSTAMP:20260420T052949
CREATED:20260322T175600Z
LAST-MODIFIED:20260322T175600Z
UID:10000239-1774519200-1774526400@kristibrownmontesano.com
SUMMARY:Moderator / LA Phil: Invited Rehearsals
DESCRIPTION:The Invited Rehearsal provides young musicians and their instructors with a rare glimpse of the Los Angeles Philharmonic as the orchestra prepares for a concert. As part of the experience\, these student musicians will gain first-hand insight into the rehearsal process\, information on the repertoire and composers\, and the chance to take part in a dynamic and interactive workshop. \nI have the honor to act as a moderator for these very special events\, conversing with young musicians and their teachers as well as hearing about their own experiences participating in a music ensemble.
URL:https://kristibrownmontesano.com/event/moderator-la-phil-invited-rehearsals-2/
LOCATION:BP Hall at Walt Disney Concert Hall
CATEGORIES:Invited rehearsal moderator,Public Musicology for Young People
ATTACH;FMTTYPE=image/jpeg:https://kristibrownmontesano.com/wp-content/uploads/2026/02/Invited-rehearsals.jpg
ORGANIZER;CN="LA Phil":MAILTO:information@laphil.org
END:VEVENT
BEGIN:VEVENT
DTSTART;TZID=America/Los_Angeles:20260219T100000
DTEND;TZID=America/Los_Angeles:20260219T120000
DTSTAMP:20260420T052949
CREATED:20260211T060220Z
LAST-MODIFIED:20260211T060220Z
UID:10000229-1771495200-1771502400@kristibrownmontesano.com
SUMMARY:Moderator / LA Phil: Invited Rehearsals
DESCRIPTION:The Invited Rehearsal provides young musicians and their instructors with a rare glimpse of the Los Angeles Philharmonic as the orchestra prepares for a concert. As part of the experience\, these student musicians will gain first-hand insight into the rehearsal process\, information on the repertoire and composers\, and the chance to take part in a dynamic and interactive workshop. \nI have the honor to act as a moderator for these very special events\, conversing with young musicians and their teachers as well as hearing about their own experiences participating in a music ensemble.
URL:https://kristibrownmontesano.com/event/moderator-la-phil-invited-rehearsals/
LOCATION:BP Hall at Walt Disney Concert Hall
CATEGORIES:Invited rehearsal moderator,LA Philharmonic,Public Musicology for Educators,Public Musicology for Young People
ATTACH;FMTTYPE=image/jpeg:https://kristibrownmontesano.com/wp-content/uploads/2026/02/Invited-rehearsals.jpg
ORGANIZER;CN="LA Phil":MAILTO:information@laphil.org
END:VEVENT
END:VCALENDAR